BEGIN:VCALENDAR
VERSION:2.0
PRODID:-//Les Deuch&#039;s - ECPv6.15.19//NONSGML v1.0//EN
CALSCALE:GREGORIAN
METHOD:PUBLISH
X-ORIGINAL-URL:https://www.lesdeuchs.com
X-WR-CALDESC:Évènements pour Les Deuch&#039;s
REFRESH-INTERVAL;VALUE=DURATION:PT1H
X-Robots-Tag:noindex
X-PUBLISHED-TTL:PT1H
BEGIN:VTIMEZONE
TZID:Europe/Paris
BEGIN:DAYLIGHT
TZOFFSETFROM:+0100
TZOFFSETTO:+0200
TZNAME:CEST
DTSTART:20200329T010000
END:DAYLIGHT
BEGIN:STANDARD
TZOFFSETFROM:+0200
TZOFFSETTO:+0100
TZNAME:CET
DTSTART:20201025T010000
END:STANDARD
BEGIN:DAYLIGHT
TZOFFSETFROM:+0100
TZOFFSETTO:+0200
TZNAME:CEST
DTSTART:20210328T010000
END:DAYLIGHT
BEGIN:STANDARD
TZOFFSETFROM:+0200
TZOFFSETTO:+0100
TZNAME:CET
DTSTART:20211031T010000
END:STANDARD
BEGIN:DAYLIGHT
TZOFFSETFROM:+0100
TZOFFSETTO:+0200
TZNAME:CEST
DTSTART:20220327T010000
END:DAYLIGHT
BEGIN:STANDARD
TZOFFSETFROM:+0200
TZOFFSETTO:+0100
TZNAME:CET
DTSTART:20221030T010000
END:STANDARD
BEGIN:DAYLIGHT
TZOFFSETFROM:+0100
TZOFFSETTO:+0200
TZNAME:CEST
DTSTART:20230326T010000
END:DAYLIGHT
BEGIN:STANDARD
TZOFFSETFROM:+0200
TZOFFSETTO:+0100
TZNAME:CET
DTSTART:20231029T010000
END:STANDARD
BEGIN:DAYLIGHT
TZOFFSETFROM:+0100
TZOFFSETTO:+0200
TZNAME:CEST
DTSTART:20240331T010000
END:DAYLIGHT
BEGIN:STANDARD
TZOFFSETFROM:+0200
TZOFFSETTO:+0100
TZNAME:CET
DTSTART:20241027T010000
END:STANDARD
END:VTIMEZONE
BEGIN:VEVENT
DTSTART;TZID=Europe/Paris:20230708T140000
DTEND;TZID=Europe/Paris:20230708T230000
DTSTAMP:20260420T074949
CREATED:20230516T101302Z
LAST-MODIFIED:20230516T102512Z
UID:16443-1688824800-1688857200@www.lesdeuchs.com
SUMMARY:Kermesse Rêvons pour nos pitchounets
DESCRIPTION:Kermesse Rêvons pour nos pitchounets \nAprès midi placé sous le signe de l’enfance\, kermesse ouverte à tous au profit de l’association Rêvons pour nos pitchounets \n\nNombreux jeux\nTombola\nBalades en 2cv ( assurées par l’association les Deuch’S et des membres du 2cv club de l’Uzège)\nRepas en soirée\nBal\n\n\nLieu : Lasalle dans le Gard
URL:https://www.lesdeuchs.com/agenda/kermesse-revons-pour-nos-pitchounets/
END:VEVENT
BEGIN:VEVENT
DTSTART;TZID=Europe/Paris:20230605T120000
DTEND;TZID=Europe/Paris:20230607T150000
DTSTAMP:20260420T074949
CREATED:20230516T100458Z
LAST-MODIFIED:20230516T101131Z
UID:16441-1685966400-1686150000@www.lesdeuchs.com
SUMMARY:Rallye Prévention Santé de Gironde
DESCRIPTION:Les 5\, 6 & 7 juin 2023  Rallye Prévention Santé de Gironde  \n  \nVillages santé :  \n\nLundi 5 juin BORDEAUX\n\nPlace Pey Berland de midi à 17h  \n\n Mardi 6 juin CASTELNAU-DE-MEDOC\n\nFoyer Moulin des Jalles de 10h à 15h\n \n\nMercredi 7 juin LIBOURNE\n\nPlace Abel Surchamp de 10h à 15h
URL:https://www.lesdeuchs.com/agenda/rallye-prevention-sante-de-gironde/
ATTACH;FMTTYPE=image/jpeg:https://www.lesdeuchs.com/wp-content/uploads/2023/05/2023_Rallye-prevention-Sante-Gironde-affiche-VF_page-0001-1-scaled.jpg
END:VEVENT
BEGIN:VEVENT
DTSTART;TZID=Europe/Paris:20230504T090000
DTEND;TZID=Europe/Paris:20230507T180000
DTSTAMP:20260420T074949
CREATED:20220808T162212Z
LAST-MODIFIED:20230128T152402Z
UID:15347-1683190800-1683482400@www.lesdeuchs.com
SUMMARY:Rallye des Deuch'S 2023
DESCRIPTION:Le rallye 2023 sera dédié aux enfants malades \n  \nNous proposerons une aventure unique à 14 enfants ayant eu a affronter un cancer ou une grave pathologie cardiaque. \nBaptisé Rallye REV’IERA ce road trip en convoi composé de neufs 2cv partira de Nîmes pour rallier Monaco. \n Il sera ponctué de surprises et d’activités ludiques . \nPlus d’infos : https://www.lesdeuchs.com/espace-presse/
URL:https://www.lesdeuchs.com/agenda/rallye-des-deuchs-2023/
ATTACH;FMTTYPE=image/jpeg:https://www.lesdeuchs.com/wp-content/uploads/2022/07/279588057_1843097769227897_2768281958675377051_n.jpg
END:VEVENT
BEGIN:VEVENT
DTSTART;VALUE=DATE:20220911
DTEND;VALUE=DATE:20220912
DTSTAMP:20260420T074949
CREATED:20220808T164329Z
LAST-MODIFIED:20220808T165323Z
UID:15350-1662854400-1662940799@www.lesdeuchs.com
SUMMARY:Action sensibilisation sur le TCFIA
DESCRIPTION:Afin de soutenir le sport féminin et de sensibiliser sur l’endométriose nous serons une nouvelle fois présente sur le TCFIA 2022 lors de la 6 ème  étapes à Ales le dimanche 11 Septembre \nVenez soutenir le sport féminin !! Rejoignez nous \nLe tour cycliste Féminin International de l’Ardèche fête ses 20 ans. \nIl reste des places sur le bord de la route\,  \nles championnes vous donnent rendez-vous du 6 au 12 septembre. \n\n\n\nEtape 1\nmar 06 sept. 2022\n109\,6 km\nLE TEIL >  VILLENEUVE-DE-BERG\n\n\nEtape 2\nmer 07 sept. 2022\n109\,6 km\nLAC DE CHAMPOS  >  MONTELIMAR\n\n\nEtape 3\njeu 08 sept. 2022\n103\,5 km\nAVIGNON >  PERNES-LES-FONTAINE\n\n\nEtape 4\nven 09 sept. 2022\n105\,2 km\nBEAUCHASTEL >  SARRAS\n\n\nEtape 5\nsam 10 sept. 2022\n109\,7 km\nFLORAC >  LE MONT LOZERE\n\n\nEtape 6\ndim 11 sept. 2022\n96\,3 km\nALES >  ALES\n\n\nEtape 7\nlun 12 sept. 2022\n121\,0 km\nVESSEAUX >  PRIVAS\n\n\n\n  \n TCFIA  : Tour cycliste féminin international de l’Ardèche
URL:https://www.lesdeuchs.com/agenda/action-sensibilisation-sur-le-tcfia/
LOCATION:Ales\, Ales\, 30\, France
ATTACH;FMTTYPE=image/jpeg:https://www.lesdeuchs.com/wp-content/uploads/2021/03/118972647_1409394932598185_6509046065793974933_o-Copie-2.jpg
END:VEVENT
BEGIN:VEVENT
DTSTART;TZID=Europe/Paris:20210925T090000
DTEND;TZID=Europe/Paris:20211002T170000
DTSTAMP:20260420T074949
CREATED:20210305T084649Z
LAST-MODIFIED:20210630T072228Z
UID:9476-1632560400-1633194000@www.lesdeuchs.com
SUMMARY:Rallye des Deuch's 2021
DESCRIPTION:La 4ème édition du Rallye des Deuch’S se déroulera dans un format et un secteur géographique différent des 3 éditions précédentes ! \n\nNous allons aborder plus largement le thème du Cancer qu’il soit spécifique à l’homme\, la femme\, qu’il concerne l’adulte ou même l’enfant car de près ou de loin nous sommes #TousConcernés !\n\n  \n\nSur chaque étapes nous mettrons en évidence la nécessité de prendre soin de soi au quotidien\, tant par l’activité physique que par la nutrition et le suivi médical afin d’être ou de rester en bonne santé\, comme nos 2cv roses ! Sans oublier l’importance du dépistage lorsqu’il existe\n\n  \n\nDépart du Grau du Roi (Port Camargue ) 30.\n\n en passant par :  Montauban 82\, Biscarosse 40 \, Les Sables d’Olonne 85\, Lorient 56\, Le mans 72\, Paris Saclay Palaiseau 91\, Dieppe 76  \n\n pour notre arrivée\, le Touquet Paris plage 62\n\n  \n\nINSCRITION ETAPES : https://www.lesdeuchs.com/inscriptions-etapes/\n\nPour ce rallye nous serons 6 femmes dynamiques\, motivées et toutes bénévoles au volant des trois 2cv roses\n#CancerTousConcernés !
URL:https://www.lesdeuchs.com/agenda/rallye-des-deuchs-2021/
ATTACH;FMTTYPE=image/png:https://www.lesdeuchs.com/wp-content/uploads/2021/04/logo-rallye-e1623324907682.png
END:VEVENT
BEGIN:VEVENT
DTSTART;TZID=Europe/Paris:20210717T100000
DTEND;TZID=Europe/Paris:20210718T180000
DTSTAMP:20260420T074949
CREATED:20210318T214654Z
LAST-MODIFIED:20210505T100751Z
UID:10739-1626516000-1626631200@www.lesdeuchs.com
SUMMARY:Rassemblement 2cv aux Haras d'Uzes
DESCRIPTION:Rassemblement de 2cv aux Haras d’Uzes dans le Gard\, organisé par les 2cv club de l’Uzege ! entrée 2€ \, gratuit pour les moins de 12 ans \nNous serons présentes sur ce beau week end de convivialité autour de la de 2Cv et dérivés organisé par nos amis du 2cv club de l’Uzege \n 
URL:https://www.lesdeuchs.com/agenda/rassemblement-2cv-aux-haras-d-uzes/
LOCATION:Haras national d’Uzes\, Uzes\, gard\, France
ATTACH;FMTTYPE=image/jpeg:https://www.lesdeuchs.com/wp-content/uploads/2021/03/40537823_880890258781991_6475030014696882176_o-e1620209231975.jpg
END:VEVENT
BEGIN:VEVENT
DTSTART;TZID=Europe/Paris:20210516T073000
DTEND;TZID=Europe/Paris:20210516T110000
DTSTAMP:20260420T074949
CREATED:20210506T143810Z
LAST-MODIFIED:20210506T144029Z
UID:13266-1621150200-1621162800@www.lesdeuchs.com
SUMMARY:Petit déjeuner solidaire
DESCRIPTION:Le Rotary Nîmes Carré d’art\norganise à notre profit une action de petit déjeuner solidaire composé de bon produits artisanaux & locaux venant de chez Lucie Vian Pâtissière-Traiteur & ADOR Le Pain\n\, les 100 premières commandes recevront en plus le journal midi libre du jour\n\n\n• Commandez vos petits déjeuners avant le 13 Mai en allant sur ce lien :\nhttps://www.helloasso.com/…/petits-dejeuners-solidaires…\n• La 100 ème commande gagnera un coffret tentation à deux ! A vos claviers\n\n\n\nLes bénéfices de cette action seront reversé à l’association \nLes deuch’s\n\nLe 16 Mai des membres du Rotary Nîmes carré d’Art ou certains membres de l’équipe des Deuch’s en #2cv vous livreront votre commande ! Secteur Nîmes & agglomération\n\n\nMerci a toute l’équipe du #rotaryNîmescarrédArt et leurs partenaires\nn’hésitez pas a partager !! merci et bon dimanche
URL:https://www.lesdeuchs.com/agenda/petit-dejeuner-solidaire/
ATTACH;FMTTYPE=image/jpeg:https://www.lesdeuchs.com/wp-content/uploads/2021/05/petits-déjeuners-solidaires-du-Rotary-Nîmes-e1620312015455.jpg
ORGANIZER;CN="Rotary N%C3%AEmes carr%C3%A9 d'art":MAILTO:rotarynimescarredart1760@gmail.com
END:VEVENT
END:VCALENDAR